Package: BBCAnalyzer Version: 1.41.0 Command: /home/biocbuild/bbs-3.23-bioc/R/bin/R CMD INSTALL BBCAnalyzer StartedAt: 2025-11-13 15:41:36 -0500 (Thu, 13 Nov 2025) EndedAt: 2025-11-13 15:42:19 -0500 (Thu, 13 Nov 2025) EllapsedTime: 43.4 seconds RetCode: 0 Status: OK