Package: BBCAnalyzer Version: 1.41.0 Command: /home/biocbuild/bbs-3.23-bioc/R/bin/R CMD build --keep-empty-dirs --no-resave-data BBCAnalyzer StartedAt: 2025-11-13 16:22:10 -0500 (Thu, 13 Nov 2025) EndedAt: 2025-11-13 16:28:41 -0500 (Thu, 13 Nov 2025) EllapsedTime: 391.3 seconds RetCode: 0 Status: OK PackageFile: BBCAnalyzer_1.41.0.tar.gz PackageFileSize: 2.203 MiB