Package: BBCAnalyzer Version: 1.41.0 Command: /Library/Frameworks/R.framework/Resources/bin/R CMD INSTALL BBCAnalyzer StartedAt: 2025-11-12 15:39:36 -0500 (Wed, 12 Nov 2025) EndedAt: 2025-11-12 15:39:53 -0500 (Wed, 12 Nov 2025) EllapsedTime: 17.4 seconds RetCode: 0 Status: OK