Package: BBCAnalyzer Version: 1.41.0 Command: /Library/Frameworks/R.framework/Resources/bin/R CMD build --keep-empty-dirs --no-resave-data BBCAnalyzer StartedAt: 2025-11-12 15:50:55 -0500 (Wed, 12 Nov 2025) EndedAt: 2025-11-12 15:53:01 -0500 (Wed, 12 Nov 2025) EllapsedTime: 125.5 seconds RetCode: 0 Status: OK PackageFile: BBCAnalyzer_1.41.0.tar.gz PackageFileSize: 2.203 MiB