Package: BBCAnalyzer Version: 1.41.0 Command: rm -rf BBCAnalyzer.buildbin-libdir && mkdir BBCAnalyzer.buildbin-libdir && /Users/biocbuild/BBS/utils/build-universal.sh BBCAnalyzer_1.41.0.tar.gz /Library/Frameworks/R.framework/Resources/bin/R BBCAnalyzer.buildbin-libdir StartedAt: 2025-11-12 20:51:36 -0500 (Wed, 12 Nov 2025) EndedAt: 2025-11-12 20:51:58 -0500 (Wed, 12 Nov 2025) EllapsedTime: 21.4 seconds RetCode: 0 Status: OK PackageFile: BBCAnalyzer_1.41.0.tgz PackageFileSize: 2.059 MiB