Package: BBCAnalyzer Version: 1.41.0 Maintainer: Sarah Sandmann MaintainerEmail: sarah.sandmann at uni-muenster.de git_url: https://git.bioconductor.org/packages/BBCAnalyzer git_branch: devel git_last_commit: 7637b40 git_last_commit_date: 2025-10-29 10:27:19 -0500 (Wed, 29 Oct 2025)