Package: BASiCStan Version: 1.13.0 Command: /home/biocbuild/bbs-3.23-bioc/R/bin/R CMD INSTALL BASiCStan StartedAt: 2025-11-14 15:55:44 -0500 (Fri, 14 Nov 2025) EndedAt: 2025-11-14 16:00:18 -0500 (Fri, 14 Nov 2025) EllapsedTime: 274.1 seconds RetCode: 0 Status: OK