Package: BASiCStan Version: 1.13.0 Command: /home/biocbuild/bbs-3.23-bioc/R/bin/R CMD build --keep-empty-dirs --no-resave-data BASiCStan StartedAt: 2025-11-13 16:19:48 -0500 (Thu, 13 Nov 2025) EndedAt: 2025-11-13 16:24:52 -0500 (Thu, 13 Nov 2025) EllapsedTime: 304.3 seconds RetCode: 0 Status: OK PackageFile: BASiCStan_1.13.0.tar.gz PackageFileSize: 64.57 KiB