Package: BASiCS Version: 2.23.0 Command: /home/biocbuild/bbs-3.23-bioc/R/bin/R CMD INSTALL BASiCS StartedAt: 2025-11-13 15:53:57 -0500 (Thu, 13 Nov 2025) EndedAt: 2025-11-13 15:55:12 -0500 (Thu, 13 Nov 2025) EllapsedTime: 74.9 seconds RetCode: 0 Status: OK