Package: BASiCS Version: 2.23.0 Command: /home/biocbuild/bbs-3.23-bioc/R/bin/R CMD check --install=check:BASiCS.install-out.txt --library=/home/biocbuild/bbs-3.23-bioc/R/site-library --timings BASiCS_2.23.0.tar.gz StartedAt: 2025-11-23 21:14:19 -0500 (Sun, 23 Nov 2025) EndedAt: 2025-11-23 21:24:33 -0500 (Sun, 23 Nov 2025) EllapsedTime: 613.8 seconds RetCode: 0 Status: WARNINGS CheckDir: BASiCS.Rcheck Warnings: 1