Package: BAGS Version: 2.51.0 Command: /home/biocbuild/bbs-3.23-bioc/R/bin/R CMD INSTALL BAGS StartedAt: 2025-11-23 15:12:50 -0500 (Sun, 23 Nov 2025) EndedAt: 2025-11-23 15:12:54 -0500 (Sun, 23 Nov 2025) EllapsedTime: 4.0 seconds RetCode: 0 Status: OK