Package: BAGS Version: 2.51.0 Command: /Library/Frameworks/R.framework/Resources/bin/R CMD build --keep-empty-dirs --no-resave-data BAGS StartedAt: 2025-11-13 15:43:43 -0500 (Thu, 13 Nov 2025) EndedAt: 2025-11-13 15:43:54 -0500 (Thu, 13 Nov 2025) EllapsedTime: 11.1 seconds RetCode: 0 Status: OK PackageFile: BAGS_2.51.0.tar.gz PackageFileSize: 273.7 KiB