Package: BADER Version: 1.49.0 Command: /Library/Frameworks/R.framework/Resources/bin/R CMD build --keep-empty-dirs --no-resave-data BADER StartedAt: 2025-11-14 15:40:31 -0500 (Fri, 14 Nov 2025) EndedAt: 2025-11-14 15:40:40 -0500 (Fri, 14 Nov 2025) EllapsedTime: 9.1 seconds RetCode: 0 Status: OK PackageFile: BADER_1.49.0.tar.gz PackageFileSize: 238.3 KiB