Package: AssessORF Version: 1.29.0 Command: /home/biocbuild/bbs-3.23-bioc/R/bin/R CMD INSTALL AssessORF StartedAt: 2025-11-11 15:40:23 -0500 (Tue, 11 Nov 2025) EndedAt: 2025-11-11 15:40:35 -0500 (Tue, 11 Nov 2025) EllapsedTime: 11.7 seconds RetCode: 0 Status: OK