Package: AssessORF Version: 1.29.0 Command: /Library/Frameworks/R.framework/Resources/bin/R CMD INSTALL AssessORF StartedAt: 2025-11-13 15:20:51 -0500 (Thu, 13 Nov 2025) EndedAt: 2025-11-13 15:20:56 -0500 (Thu, 13 Nov 2025) EllapsedTime: 4.8 seconds RetCode: 0 Status: OK