Package: AssessORF Version: 1.29.0 Command: /Library/Frameworks/R.framework/Resources/bin/R CMD build --keep-empty-dirs --no-resave-data AssessORF StartedAt: 2025-11-13 15:42:08 -0500 (Thu, 13 Nov 2025) EndedAt: 2025-11-13 15:42:25 -0500 (Thu, 13 Nov 2025) EllapsedTime: 17.2 seconds RetCode: 0 Status: OK PackageFile: AssessORF_1.29.0.tar.gz PackageFileSize: 4.703 MiB