Package: AssessORF Version: 1.29.0 Maintainer: Deepank Korandla MaintainerEmail: dkorandl at alumni.cmu.edu git_url: https://git.bioconductor.org/packages/AssessORF git_branch: devel git_last_commit: 02cf057 git_last_commit_date: 2025-10-29 10:48:40 -0500 (Wed, 29 Oct 2025)