Package: ArrayExpress Version: 1.71.0 Command: /home/biocbuild/bbs-3.23-bioc/R/bin/R CMD INSTALL ArrayExpress StartedAt: 2025-11-14 15:22:05 -0500 (Fri, 14 Nov 2025) EndedAt: 2025-11-14 15:22:30 -0500 (Fri, 14 Nov 2025) EllapsedTime: 25.1 seconds RetCode: 0 Status: OK