Package: ArrayExpress Version: 1.71.0 Command: /home/biocbuild/bbs-3.23-bioc/R/bin/R CMD check --install=check:ArrayExpress.install-out.txt --library=/home/biocbuild/bbs-3.23-bioc/R/site-library --timings ArrayExpress_1.71.0.tar.gz StartedAt: 2025-11-14 21:04:10 -0500 (Fri, 14 Nov 2025) EndedAt: 2025-11-14 21:11:07 -0500 (Fri, 14 Nov 2025) EllapsedTime: 416.6 seconds RetCode: 1 Status: ERROR CheckDir: ArrayExpress.Rcheck Warnings: NA