Package: ArrayExpress Version: 1.71.0 Command: /home/biocbuild/bbs-3.23-bioc/R/bin/R CMD build --keep-empty-dirs --no-resave-data ArrayExpress StartedAt: 2025-11-13 16:12:45 -0500 (Thu, 13 Nov 2025) EndedAt: 2025-11-13 16:15:12 -0500 (Thu, 13 Nov 2025) EllapsedTime: 146.1 seconds RetCode: 0 Status: OK PackageFile: ArrayExpress_1.71.0.tar.gz PackageFileSize: 136.9 KiB