Package: ArrayExpress Version: 1.71.0 Command: /Library/Frameworks/R.framework/Resources/bin/R CMD INSTALL ArrayExpress StartedAt: 2025-11-14 15:13:58 -0500 (Fri, 14 Nov 2025) EndedAt: 2025-11-14 15:14:09 -0500 (Fri, 14 Nov 2025) EllapsedTime: 10.3 seconds RetCode: 0 Status: OK