Package: ArrayExpress Version: 1.71.0 Command: /Library/Frameworks/R.framework/Resources/bin/R CMD check --install=check:ArrayExpress.install-out.txt --library=/Library/Frameworks/R.framework/Resources/library --no-vignettes --timings ArrayExpress_1.71.0.tar.gz StartedAt: 2025-11-14 18:28:21 -0500 (Fri, 14 Nov 2025) EndedAt: 2025-11-14 18:31:32 -0500 (Fri, 14 Nov 2025) EllapsedTime: 191.4 seconds RetCode: 0 Status: OK CheckDir: ArrayExpress.Rcheck Warnings: 0