Package: ArrayExpress Version: 1.71.0 Command: /Library/Frameworks/R.framework/Resources/bin/R CMD build --keep-empty-dirs --no-resave-data ArrayExpress StartedAt: 2025-11-13 15:41:34 -0500 (Thu, 13 Nov 2025) EndedAt: 2025-11-13 15:43:22 -0500 (Thu, 13 Nov 2025) EllapsedTime: 108.2 seconds RetCode: 0 Status: OK PackageFile: ArrayExpress_1.71.0.tar.gz PackageFileSize: 137.7 KiB