Package: ArrayExpress Version: 1.71.0 Command: rm -rf ArrayExpress.buildbin-libdir && mkdir ArrayExpress.buildbin-libdir && /Users/biocbuild/BBS/utils/build-universal.sh ArrayExpress_1.71.0.tar.gz /Library/Frameworks/R.framework/Resources/bin/R ArrayExpress.buildbin-libdir StartedAt: 2025-11-13 23:27:46 -0500 (Thu, 13 Nov 2025) EndedAt: 2025-11-13 23:28:00 -0500 (Thu, 13 Nov 2025) EllapsedTime: 13.3 seconds RetCode: 0 Status: OK PackageFile: ArrayExpress_1.71.0.tgz PackageFileSize: 184.3 KiB