Package: AnnotationHubData Version: 1.41.0 Command: /home/biocbuild/bbs-3.23-bioc/R/bin/R CMD INSTALL AnnotationHubData StartedAt: 2025-11-11 15:44:31 -0500 (Tue, 11 Nov 2025) EndedAt: 2025-11-11 15:45:14 -0500 (Tue, 11 Nov 2025) EllapsedTime: 42.9 seconds RetCode: 0 Status: OK