Package: AnnotationHubData Version: 1.41.0 Command: /home/biocbuild/bbs-3.23-bioc/R/bin/R CMD check --install=check:AnnotationHubData.install-out.txt --library=/home/biocbuild/bbs-3.23-bioc/R/site-library --timings AnnotationHubData_1.41.0.tar.gz StartedAt: 2025-11-14 21:02:23 -0500 (Fri, 14 Nov 2025) EndedAt: 2025-11-14 21:11:36 -0500 (Fri, 14 Nov 2025) EllapsedTime: 552.9 seconds RetCode: 0 Status: WARNINGS CheckDir: AnnotationHubData.Rcheck Warnings: 1