Package: AnnotationHubData Version: 1.41.0 Command: /Library/Frameworks/R.framework/Resources/bin/R CMD INSTALL AnnotationHubData StartedAt: 2025-11-12 15:39:06 -0500 (Wed, 12 Nov 2025) EndedAt: 2025-11-12 15:39:24 -0500 (Wed, 12 Nov 2025) EllapsedTime: 18.1 seconds RetCode: 0 Status: OK