Package: AnnotationHub Version: 4.1.0 Command: /home/biocbuild/bbs-3.23-bioc/R/bin/R CMD INSTALL AnnotationHub StartedAt: 2025-11-14 15:26:27 -0500 (Fri, 14 Nov 2025) EndedAt: 2025-11-14 15:26:43 -0500 (Fri, 14 Nov 2025) EllapsedTime: 16.7 seconds RetCode: 0 Status: OK