Package: AnnotationHub Version: 4.1.0 Command: /home/biocbuild/bbs-3.23-bioc/R/bin/R CMD build --keep-empty-dirs --no-resave-data AnnotationHub StartedAt: 2025-11-16 16:12:17 -0500 (Sun, 16 Nov 2025) EndedAt: 2025-11-16 16:14:21 -0500 (Sun, 16 Nov 2025) EllapsedTime: 124.1 seconds RetCode: 0 Status: OK PackageFile: AnnotationHub_4.1.0.tar.gz PackageFileSize: 978.2 KiB