############################################################################## ############################################################################## ### ### Running command: ### ### /home/biocbuild/bbs-3.23-bioc/R/bin/R CMD build --keep-empty-dirs --no-resave-data AnnotationHub ### ############################################################################## ############################################################################## * checking for file ‘AnnotationHub/DESCRIPTION’ ... OK * preparing ‘AnnotationHub’: * checking DESCRIPTION meta-information ... OK * installing the package (it is needed to build vignettes) * creating vignettes ... OK * checking for LF line-endings in source and make files and shell scripts * checking for empty or unneeded directories * building ‘AnnotationHub_4.1.0.tar.gz’