Package: AnnotationHub Version: 4.1.0 Command: /Library/Frameworks/R.framework/Resources/bin/R CMD build --keep-empty-dirs --no-resave-data AnnotationHub StartedAt: 2025-11-14 15:37:46 -0500 (Fri, 14 Nov 2025) EndedAt: 2025-11-14 15:38:42 -0500 (Fri, 14 Nov 2025) EllapsedTime: 56.7 seconds RetCode: 0 Status: OK PackageFile: AnnotationHub_4.1.0.tar.gz PackageFileSize: 978.3 KiB