Package: AnnotationHub Version: 4.1.0 Maintainer: Bioconductor Package Maintainer MaintainerEmail: maintainer at bioconductor.org git_url: https://git.bioconductor.org/packages/AnnotationHub git_branch: devel git_last_commit: 027c4b7 git_last_commit_date: 2025-10-29 10:14:23 -0500 (Wed, 29 Oct 2025)