Package: AnnotationForge Version: 1.53.0 Command: /home/biocbuild/bbs-3.23-bioc/R/bin/R CMD INSTALL AnnotationForge StartedAt: 2025-11-13 15:25:48 -0500 (Thu, 13 Nov 2025) EndedAt: 2025-11-13 15:26:04 -0500 (Thu, 13 Nov 2025) EllapsedTime: 16.5 seconds RetCode: 0 Status: OK