Package: AnnotationForge Version: 1.53.0 Command: /home/biocbuild/bbs-3.23-bioc/R/bin/R CMD build --keep-empty-dirs --no-resave-data AnnotationForge StartedAt: 2025-11-13 16:11:53 -0500 (Thu, 13 Nov 2025) EndedAt: 2025-11-13 16:14:39 -0500 (Thu, 13 Nov 2025) EllapsedTime: 166.2 seconds RetCode: 0 Status: OK PackageFile: AnnotationForge_1.53.0.tar.gz PackageFileSize: 3.838 MiB