Package: AnnotationForge Version: 1.53.0 Command: /Library/Frameworks/R.framework/Resources/bin/R CMD INSTALL AnnotationForge StartedAt: 2025-11-13 15:08:55 -0500 (Thu, 13 Nov 2025) EndedAt: 2025-11-13 15:09:02 -0500 (Thu, 13 Nov 2025) EllapsedTime: 6.4 seconds RetCode: 0 Status: OK