Package: AnnotationDbi Version: 1.73.0 Command: /home/biocbuild/bbs-3.23-bioc/R/bin/R CMD INSTALL AnnotationDbi StartedAt: 2025-11-14 15:26:03 -0500 (Fri, 14 Nov 2025) EndedAt: 2025-11-14 15:26:21 -0500 (Fri, 14 Nov 2025) EllapsedTime: 18.8 seconds RetCode: 0 Status: OK