Package: AnnotationDbi Version: 1.73.0 Command: /home/biocbuild/bbs-3.23-bioc/R/bin/R CMD check --install=check:AnnotationDbi.install-out.txt --library=/home/biocbuild/bbs-3.23-bioc/R/site-library --timings AnnotationDbi_1.73.0.tar.gz StartedAt: 2025-11-14 21:01:12 -0500 (Fri, 14 Nov 2025) EndedAt: 2025-11-14 21:05:23 -0500 (Fri, 14 Nov 2025) EllapsedTime: 251.4 seconds RetCode: 0 Status: WARNINGS CheckDir: AnnotationDbi.Rcheck Warnings: 1