Package: AnnotationDbi Version: 1.73.0 Command: /Library/Frameworks/R.framework/Resources/bin/R CMD INSTALL AnnotationDbi StartedAt: 2025-11-12 15:28:06 -0500 (Wed, 12 Nov 2025) EndedAt: 2025-11-12 15:28:14 -0500 (Wed, 12 Nov 2025) EllapsedTime: 7.7 seconds RetCode: 0 Status: OK