Package: AnnotationDbi Version: 1.73.0 Command: /Library/Frameworks/R.framework/Resources/bin/R CMD build --keep-empty-dirs --no-resave-data AnnotationDbi StartedAt: 2025-11-13 15:40:41 -0500 (Thu, 13 Nov 2025) EndedAt: 2025-11-13 15:41:05 -0500 (Thu, 13 Nov 2025) EllapsedTime: 24.2 seconds RetCode: 0 Status: OK PackageFile: AnnotationDbi_1.73.0.tar.gz PackageFileSize: 4.172 MiB