Package: Anaquin Version: 2.35.0 Command: /Library/Frameworks/R.framework/Resources/bin/R CMD INSTALL Anaquin StartedAt: 2025-11-23 15:14:30 -0500 (Sun, 23 Nov 2025) EndedAt: 2025-11-23 15:14:33 -0500 (Sun, 23 Nov 2025) EllapsedTime: 2.7 seconds RetCode: 0 Status: OK