Package: Anaquin Version: 2.35.0 Command: rm -rf Anaquin.buildbin-libdir && mkdir Anaquin.buildbin-libdir && /Users/biocbuild/BBS/utils/build-universal.sh Anaquin_2.35.0.tar.gz /Library/Frameworks/R.framework/Resources/bin/R Anaquin.buildbin-libdir StartedAt: 2025-11-23 23:25:27 -0500 (Sun, 23 Nov 2025) EndedAt: 2025-11-23 23:25:31 -0500 (Sun, 23 Nov 2025) EllapsedTime: 4.1 seconds RetCode: 0 Status: OK PackageFile: Anaquin_2.35.0.tgz PackageFileSize: 458.2 KiB