Package: AnVILWorkflow Version: 1.11.0 Command: /home/biocbuild/bbs-3.23-bioc/R/bin/R CMD build --keep-empty-dirs --no-resave-data AnVILWorkflow StartedAt: 2025-11-11 16:16:27 -0500 (Tue, 11 Nov 2025) EndedAt: 2025-11-11 16:16:33 -0500 (Tue, 11 Nov 2025) EllapsedTime: 6.0 seconds RetCode: 1 Status: ERROR PackageFile: None PackageFileSize: NA