Package: AnVILWorkflow Version: 1.11.0 Maintainer: Sehyun Oh MaintainerEmail: shbrief at gmail.com git_url: https://git.bioconductor.org/packages/AnVILWorkflow git_branch: devel git_last_commit: 46f2772 git_last_commit_date: 2025-10-29 11:21:05 -0500 (Wed, 29 Oct 2025)