Package: AnVILGCP Version: 1.5.3 Command: /home/biocbuild/bbs-3.23-bioc/R/bin/R CMD INSTALL AnVILGCP StartedAt: 2025-11-23 15:10:15 -0500 (Sun, 23 Nov 2025) EndedAt: 2025-11-23 15:10:21 -0500 (Sun, 23 Nov 2025) EllapsedTime: 5.6 seconds RetCode: 0 Status: OK