Package: AnVILGCP Version: 1.5.2 Command: /Library/Frameworks/R.framework/Resources/bin/R CMD INSTALL AnVILGCP StartedAt: 2025-11-13 15:05:16 -0500 (Thu, 13 Nov 2025) EndedAt: 2025-11-13 15:05:18 -0500 (Thu, 13 Nov 2025) EllapsedTime: 1.8 seconds RetCode: 0 Status: OK