Package: AnVILGCP Version: 1.5.2 Command: /Library/Frameworks/R.framework/Resources/bin/R CMD build --keep-empty-dirs --no-resave-data AnVILGCP StartedAt: 2025-11-14 15:38:15 -0500 (Fri, 14 Nov 2025) EndedAt: 2025-11-14 15:38:20 -0500 (Fri, 14 Nov 2025) EllapsedTime: 5.1 seconds RetCode: 0 Status: OK PackageFile: AnVILGCP_1.5.2.tar.gz PackageFileSize: 414.4 KiB