Package: AnVILGCP Version: 1.5.2 Command: rm -rf AnVILGCP.buildbin-libdir && mkdir AnVILGCP.buildbin-libdir && /Users/biocbuild/BBS/utils/build-universal.sh AnVILGCP_1.5.2.tar.gz /Library/Frameworks/R.framework/Resources/bin/R AnVILGCP.buildbin-libdir StartedAt: 2025-11-14 23:22:47 -0500 (Fri, 14 Nov 2025) EndedAt: 2025-11-14 23:22:50 -0500 (Fri, 14 Nov 2025) EllapsedTime: 3.1 seconds RetCode: 0 Status: OK PackageFile: AnVILGCP_1.5.2.tgz PackageFileSize: 459.8 KiB