Package: AnVILBilling Version: 1.21.0 Command: /Library/Frameworks/R.framework/Resources/bin/R CMD INSTALL AnVILBilling StartedAt: 2025-11-21 15:05:07 -0500 (Fri, 21 Nov 2025) EndedAt: 2025-11-21 15:05:15 -0500 (Fri, 21 Nov 2025) EllapsedTime: 7.4 seconds RetCode: 0 Status: OK