Package: AnVILBilling Version: 1.21.0 Command: /Library/Frameworks/R.framework/Resources/bin/R CMD build --keep-empty-dirs --no-resave-data AnVILBilling StartedAt: 2025-11-21 15:37:26 -0500 (Fri, 21 Nov 2025) EndedAt: 2025-11-21 15:37:32 -0500 (Fri, 21 Nov 2025) EllapsedTime: 6.1 seconds RetCode: 0 Status: OK PackageFile: AnVILBilling_1.21.0.tar.gz PackageFileSize: 1.006 MiB