Package: AnVILBase Version: 1.5.1 Command: /home/biocbuild/bbs-3.23-bioc/R/bin/R CMD INSTALL AnVILBase StartedAt: 2025-11-13 15:09:00 -0500 (Thu, 13 Nov 2025) EndedAt: 2025-11-13 15:09:06 -0500 (Thu, 13 Nov 2025) EllapsedTime: 6.7 seconds RetCode: 0 Status: OK